Workbook
Name country_list: matrix!$B$3:$B$100
Name matrix: matrix!$B$4:$Q$100

Sheet NRE Calculator
B2: DTA Calculator for Personal Services Rendered by Employees / Certificate of Residence
B3: (To determine if tax exemption applies for personal services rendered by an individual in Singapore for a foreign company)
B4: The calculator is correct as of 30 Sep 2026. Please check the IRAS website at www.iras.gov.sg for the latest version. The calculator provides results based on the stated assumptions and your inputs. It may not provide for all possible scenarios.
C5: Instructions
C7: =calcNresults!C73 -> Please select your country/region of residence under Section 1. | AQ7: =HYPERLINK("#'NRE Calculator'!D57","Click here for RESULT") -> Click here for RESULT | AS7: =IF(C7=calcNresults!C116,"show",IF(C7=calcNresults!C117,"show",IF(C7=calcNresults!C118,"show","hide"))) -> hide | AT7: conditional formatting to provide link to results
C10: Section 1 - Please select country/region | AS10: =IF($AE$13="",1,0) -> 1
E13: Your country/region of residence
D15: =IF($AE$13="","",calcNresults!$C$76)
C18: Section 2 - | G18: =calcNresults!C79 -> Please select a country/region under Section 1. | AS18: =IF($C$7=calcNresults!C114,1,0) -> 0
D20: =IF($AE$13="","",calcNresults!C20) | E20: =IF($AE$13="","",calcNresults!D20) | AJ20: Yes | AX20: =calcNresults!D27 -> #N/A
D23: =IF($AE$13="","",calcNresults!C21) | E23: =IF($AE$13="","",calcNresults!D21) | AJ23: Yes | AX23: =calcNresults!D28 -> #N/A
D26: =IF($AE$13="","",calcNresults!C22) | E26: =IF($AE$13="","",calcNresults!D22) | AX26: =calcNresults!D29 -> #N/A
C30: Section 3 - | G30: =calcNresults!C82 -> Please select a country/region under Section 1. | AS30: =IF($C$7=calcNresults!C115,1,0) -> 0 | AT30: =calcNresults!C120 -> Please refer to results below.
E34: =calcNresults!C84 -> Please enter your current and prior visit(s), if any:- | AS34: =IF(OR(days!E3="moving",G30=AT30),"Hide","Show") -> Show
F36: From | H36: =IF($G$30=calcNresults!$C$120,$AX$36,IF(days!E3="limited treaty","",$AX$37)) -> 45658 | M36: to | N36: =IF(days!E3="calendar",days!G8,IF(days!E3="moving",days!H8,"")) | AS36: Date validation to prevent entering dates when alrdy disqualified: | AW36: From | AX36: =DATE(YEAR(TODAY())+20,1,1) -> 53328 | AY36: to | AZ36: =DATE(YEAR(TODAY())-20,1,1) -> 38718
AS37: Valid dates for the error checks below: | AW37: From | AX37: =IF($AE$13="",days!F7,IF(days!E3="limited treaty","",IF(AND(calcNresults!N6<>"",days!E3="calendar"),DATE(calcNresults!N6,1,1),days!F7))) -> 45658 | AY37: to | AZ37: =IF(days!E3="calendar",days!G8,IF(days!E3="moving",days!H8,""))
M38: Date From | R38: Date To | W38: =IF(days!E3="moving","No. of days in Singapore in the relevant period","No. of days in Singapore") -> No. of days in Singapore | AS38: To error if moving & "Date To" is >12mths from "Date From" of "Period 1": | AX38: =IF(M39="","",DATE(YEAR(M39)+1,MONTH(M39),DAY(M39)-1)) | AY38: Check to highlight "Period" cell | AZ38: Error Message
F39: Period 1 | W39: =IF(AY39="highlight period",AZ39,IF(OR(M39="",R39="",$AY$51>0),"",IF(days!$E$3="calendar",days!N13,IF(AND(M40<>"",R40<>""),"",days!N32)))) | AS39: =IF(AND(M39="",R39=""),"",IF(OR(M39<$AX$37,M39>$AZ$37,R39>$AZ$37,R39<M39,SUM(AT39:AX39)>0),"error","")) | AT39: =COUNTIF($AS$38:AS38,"error") -> 0 | AU39: =IF(AND(R39<>"",M39=""),1,0) -> 0 | AV39: =IF(OR(R39="",M39=""),0,IF(R39-M39>=0,0,1)) -> 0 | AW39: =IF(OR(M40="",R39=""),0,IF(M40-R39>=0,0,1)) -> 0 | AX39: =IF(AND(OR(AE13="France",AE13="Thailand"),YEAR(M39)=2016),0,IF(days!$E$3="moving",IF(R39>$AX$38,1,0),0)) -> 0 | AY39: =IF(AZ39<>"","highlight period","ok") -> ok | AZ39: =IF((AND(COUNTBLANK(M39)+COUNTBLANK(R39)=2,COUNTA(M40:$M$50)+COUNTA(R40:$R$50)>0))=TRUE,"Do not skip any row",IF(AZ38="Do not skip any row","",IF(COUNTBLANK(M39)+COUNTBLANK(R39)=2,"",IF(COUNTBLANK(M39)=1,"Please enter date of arrival in Singapore",IF(COUNTBLANK(R39)=1,"Please enter date of departure from Singapore",IF(R39<M39,"Date of departure from Singapore is earlier than date of arrival in Singapore",IF(AW39>0,"Please check that no overlapping periods exist.",IF(AX39>0,"Your physical presence in Singapore exceeded 183 days in a 12-month period.",""))))))))
F40: Period 2 | W40: =IF(AY40="highlight period",AZ40,IF(OR(M40="",R40="",$AY$51>0),"",IF(days!$E$3="calendar",days!N14,IF(AND(M41<>"",R41<>""),"",days!N33)))) | AS40: =IF(AND(M40="",R40=""),"",IF(OR(M40<$AX$37,M40>$AZ$37,R40>$AZ$37,R40<M40,SUM(AT40:AX40)>0),"error","")) | AT40: =COUNTIF($AS$38:AS39,"error") -> 0 | AU40: =IF(AND(R40<>"",M40=""),1,0) -> 0 | AV40: =IF(OR(R40="",M40=""),0,IF(R40-M40>=0,0,1)) -> 0 | AW40: =IF(OR(M41="",R40=""),0,IF(M41-R40>0,0,1)) -> 0 | AX40: =IF(days!$E$3="moving",IF(R40>$AX$38,1,0),0) -> 0 | AY40: =IF(AZ40<>"","highlight period","ok") -> ok | AZ40: =IF((AND(COUNTBLANK(M40)+COUNTBLANK(R40)=2,COUNTA(M41:$M$50)+COUNTA(R41:$R$50)>0))=TRUE,"Do not skip any row",IF(AZ39="Do not skip any row","",IF(COUNTBLANK(M40)+COUNTBLANK(R40)=2,"",IF(COUNTBLANK(M40)=1,"Please enter date of arrival in Singapore",IF(COUNTBLANK(R40)=1,"Please enter date of departure from Singapore",IF(R40<M40,"Date of departure from Singapore is earlier than date of arrival in Singapore",IF(AW40>0,"Please check that no overlapping periods exist.",IF(AX40>0,"Your stay exceeds a 12-month period. Please email us as per instructions under Section 1.", ""))))))))
F41: Period 3 | W41: =IF(AY41="highlight period",AZ41,IF(OR(M41="",R41="",$AY$51>0),"",IF(days!$E$3="calendar",days!N15,IF(AND(M42<>"",R42<>""),"",days!N34)))) | AS41: =IF(AND(M41="",R41=""),"",IF(OR(M41<$AX$37,M41>$AZ$37,R41>$AZ$37,R41<M41,SUM(AT41:AX41)>0),"error","")) | AT41: =COUNTIF($AS$38:AS40,"error") -> 0 | AU41: =IF(AND(R41<>"",M41=""),1,0) -> 0 | AV41: =IF(OR(R41="",M41=""),0,IF(R41-M41>=0,0,1)) -> 0 | AW41: =IF(OR(M42="",R41=""),0,IF(M42-R41>0,0,1)) -> 0 | AX41: =IF(days!$E$3="moving",IF(R41>$AX$38,1,0),0) -> 0 | AY41: =IF(AZ41<>"","highlight period","ok") -> ok | AZ41: =IF((AND(COUNTBLANK(M41)+COUNTBLANK(R41)=2,COUNTA(M42:$M$50)+COUNTA(R42:$R$50)>0))=TRUE,"Do not skip any row",IF(AZ40="Do not skip any row","",IF(COUNTBLANK(M41)+COUNTBLANK(R41)=2,"",IF(COUNTBLANK(M41)=1,"Please enter date of arrival in Singapore",IF(COUNTBLANK(R41)=1,"Please enter date of departure from Singapore",IF(R41<M41,"Date of departure from Singapore is earlier than date of arrival in Singapore",IF(AW41>0,"Please check that no overlapping periods exist.",IF(AX41>0,"Your stay exceeds a 12-month period. Please email us as per instructions under Section 1.", ""))))))))
F42: Period 4 | W42: =IF(AY42="highlight period",AZ42,IF(OR(M42="",R42="",$AY$51>0),"",IF(days!$E$3="calendar",days!N16,IF(AND(M43<>"",R43<>""),"",days!N35)))) | AS42: =IF(AND(M42="",R42=""),"",IF(OR(M42<$AX$37,M42>$AZ$37,R42>$AZ$37,R42<M42,SUM(AT42:AX42)>0),"error","")) | AT42: =COUNTIF($AS$38:AS41,"error") -> 0 | AU42: =IF(AND(R42<>"",M42=""),1,0) -> 0 | AV42: =IF(OR(R42="",M42=""),0,IF(R42-M42>=0,0,1)) -> 0 | AW42: =IF(OR(M43="",R42=""),0,IF(M43-R42>0,0,1)) -> 0 | AX42: =IF(days!$E$3="moving",IF(R42>$AX$38,1,0),0) -> 0 | AY42: =IF(AZ42<>"","highlight period","ok") -> ok | AZ42: =IF((AND(COUNTBLANK(M42)+COUNTBLANK(R42)=2,COUNTA(M43:$M$50)+COUNTA(R43:$R$50)>0))=TRUE,"Do not skip any row",IF(AZ41="Do not skip any row","",IF(COUNTBLANK(M42)+COUNTBLANK(R42)=2,"",IF(COUNTBLANK(M42)=1,"Please enter date of arrival in Singapore",IF(COUNTBLANK(R42)=1,"Please enter date of departure from Singapore",IF(R42<M42,"Date of departure from Singapore is earlier than date of arrival in Singapore",IF(AW42>0,"Please check that no overlapping periods exist.",IF(AX42>0,"Your stay exceeds a 12-month period. Please email us as per instructions under Section 1.", ""))))))))
F43: Period 5 | W43: =IF(AY43="highlight period",AZ43,IF(OR(M43="",R43="",$AY$51>0),"",IF(days!$E$3="calendar",days!N17,IF(AND(M44<>"",R44<>""),"",days!N36)))) | AS43: =IF(AND(M43="",R43=""),"",IF(OR(M43<$AX$37,M43>$AZ$37,R43>$AZ$37,R43<M43,SUM(AT43:AX43)>0),"error","")) | AT43: =COUNTIF($AS$38:AS42,"error") -> 0 | AU43: =IF(AND(R43<>"",M43=""),1,0) -> 0 | AV43: =IF(OR(R43="",M43=""),0,IF(R43-M43>=0,0,1)) -> 0 | AW43: =IF(OR(M44="",R43=""),0,IF(M44-R43>0,0,1)) -> 0 | AX43: =IF(days!$E$3="moving",IF(R43>$AX$38,1,0),0) -> 0 | AY43: =IF(AZ43<>"","highlight period","ok") -> ok | AZ43: =IF((AND(COUNTBLANK(M43)+COUNTBLANK(R43)=2,COUNTA(M44:$M$50)+COUNTA(R44:$R$50)>0))=TRUE,"Do not skip any row",IF(AZ42="Do not skip any row","",IF(COUNTBLANK(M43)+COUNTBLANK(R43)=2,"",IF(COUNTBLANK(M43)=1,"Please enter date of arrival in Singapore",IF(COUNTBLANK(R43)=1,"Please enter date of departure from Singapore",IF(R43<M43,"Date of departure from Singapore is earlier than date of arrival in Singapore",IF(AW43>0,"Please check that no overlapping periods exist.",IF(AX43>0,"Your stay exceeds a 12-month period. Please email us as per instructions under Section 1.", ""))))))))
F44: Period 6 | W44: =IF(AY44="highlight period",AZ44,IF(OR(M44="",R44="",$AY$51>0),"",IF(days!$E$3="calendar",days!N18,IF(AND(M45<>"",R45<>""),"",days!N37)))) | AS44: =IF(AND(M44="",R44=""),"",IF(OR(M44<$AX$37,M44>$AZ$37,R44>$AZ$37,R44<M44,SUM(AT44:AX44)>0),"error","")) | AT44: =COUNTIF($AS$38:AS43,"error") -> 0 | AU44: =IF(AND(R44<>"",M44=""),1,0) -> 0 | AV44: =IF(OR(R44="",M44=""),0,IF(R44-M44>=0,0,1)) -> 0 | AW44: =IF(OR(M45="",R44=""),0,IF(M45-R44>0,0,1)) -> 0 | AX44: =IF(days!$E$3="moving",IF(R44>$AX$38,1,0),0) -> 0 | AY44: =IF(AZ44<>"","highlight period","ok") -> ok | AZ44: =IF((AND(COUNTBLANK(M44)+COUNTBLANK(R44)=2,COUNTA(M45:$M$50)+COUNTA(R45:$R$50)>0))=TRUE,"Do not skip any row",IF(AZ43="Do not skip any row","",IF(COUNTBLANK(M44)+COUNTBLANK(R44)=2,"",IF(COUNTBLANK(M44)=1,"Please enter date of arrival in Singapore",IF(COUNTBLANK(R44)=1,"Please enter date of departure from Singapore",IF(R44<M44,"Date of departure from Singapore is earlier than date of arrival in Singapore",IF(AW44>0,"Please check that no overlapping periods exist.",IF(AX44>0,"Your stay exceeds a 12-month period. Please email us as per instructions under Section 1.", ""))))))))
F45: Period 7 | W45: =IF(AY45="highlight period",AZ45,IF(OR(M45="",R45="",$AY$51>0),"",IF(days!$E$3="calendar",days!N19,IF(AND(M46<>"",R46<>""),"",days!N38)))) | AS45: =IF(AND(M45="",R45=""),"",IF(OR(M45<$AX$37,M45>$AZ$37,R45>$AZ$37,R45<M45,SUM(AT45:AX45)>0),"error","")) | AT45: =COUNTIF($AS$38:AS44,"error") -> 0 | AU45: =IF(AND(R45<>"",M45=""),1,0) -> 0 | AV45: =IF(OR(R45="",M45=""),0,IF(R45-M45>=0,0,1)) -> 0 | AW45: =IF(OR(M46="",R45=""),0,IF(M46-R45>0,0,1)) -> 0 | AX45: =IF(days!$E$3="moving",IF(R45>$AX$38,1,0),0) -> 0 | AY45: =IF(AZ45<>"","highlight period","ok") -> ok | AZ45: =IF((AND(COUNTBLANK(M45)+COUNTBLANK(R45)=2,COUNTA(M46:$M$50)+COUNTA(R46:$R$50)>0))=TRUE,"Do not skip any row",IF(AZ44="Do not skip any row","",IF(COUNTBLANK(M45)+COUNTBLANK(R45)=2,"",IF(COUNTBLANK(M45)=1,"Please enter date of arrival in Singapore",IF(COUNTBLANK(R45)=1,"Please enter date of departure from Singapore",IF(R45<M45,"Date of departure from Singapore is earlier than date of arrival in Singapore",IF(AW45>0,"Please check that no overlapping periods exist.",IF(AX45>0,"Your stay exceeds a 12-month period. Please email us as per instructions under Section 1.", ""))))))))
F46: Period 8 | W46: =IF(AY46="highlight period",AZ46,IF(OR(M46="",R46="",$AY$51>0),"",IF(days!$E$3="calendar",days!N20,IF(AND(M47<>"",R47<>""),"",days!N39)))) | AS46: =IF(AND(M46="",R46=""),"",IF(OR(M46<$AX$37,M46>$AZ$37,R46>$AZ$37,R46<M46,SUM(AT46:AX46)>0),"error","")) | AT46: =COUNTIF($AS$38:AS45,"error") -> 0 | AU46: =IF(AND(R46<>"",M46=""),1,0) -> 0 | AV46: =IF(OR(R46="",M46=""),0,IF(R46-M46>=0,0,1)) -> 0 | AW46: =IF(OR(M47="",R46=""),0,IF(M47-R46>0,0,1)) -> 0 | AX46: =IF(days!$E$3="moving",IF(R46>$AX$38,1,0),0) -> 0 | AY46: =IF(AZ46<>"","highlight period","ok") -> ok | AZ46: =IF((AND(COUNTBLANK(M46)+COUNTBLANK(R46)=2,COUNTA(M47:$M$50)+COUNTA(R47:$R$50)>0))=TRUE,"Do not skip any row",IF(AZ45="Do not skip any row","",IF(COUNTBLANK(M46)+COUNTBLANK(R46)=2,"",IF(COUNTBLANK(M46)=1,"Please enter date of arrival in Singapore",IF(COUNTBLANK(R46)=1,"Please enter date of departure from Singapore",IF(R46<M46,"Date of departure from Singapore is earlier than date of arrival in Singapore",IF(AW46>0,"Please check that no overlapping periods exist.",IF(AX46>0,"Your stay exceeds a 12-month period. Please email us as per instructions under Section 1.", ""))))))))
F47: Period 9 | W47: =IF(AY47="highlight period",AZ47,IF(OR(M47="",R47="",$AY$51>0),"",IF(days!$E$3="calendar",days!N21,IF(AND(M48<>"",R48<>""),"",days!N40)))) | AS47: =IF(AND(M47="",R47=""),"",IF(OR(M47<$AX$37,M47>$AZ$37,R47>$AZ$37,R47<M47,SUM(AT47:AX47)>0),"error","")) | AT47: =COUNTIF($AS$38:AS46,"error") -> 0 | AU47: =IF(AND(R47<>"",M47=""),1,0) -> 0 | AV47: =IF(OR(R47="",M47=""),0,IF(R47-M47>=0,0,1)) -> 0 | AW47: =IF(OR(M48="",R47=""),0,IF(M48-R47>0,0,1)) -> 0 | AX47: =IF(days!$E$3="moving",IF(R47>$AX$38,1,0),0) -> 0 | AY47: =IF(AZ47<>"","highlight period","ok") -> ok | AZ47: =IF((AND(COUNTBLANK(M47)+COUNTBLANK(R47)=2,COUNTA(M48:$M$50)+COUNTA(R48:$R$50)>0))=TRUE,"Do not skip any row",IF(AZ46="Do not skip any row","",IF(COUNTBLANK(M47)+COUNTBLANK(R47)=2,"",IF(COUNTBLANK(M47)=1,"Please enter date of arrival in Singapore",IF(COUNTBLANK(R47)=1,"Please enter date of departure from Singapore",IF(R47<M47,"Date of departure from Singapore is earlier than date of arrival in Singapore",IF(AW47>0,"Please check that no overlapping periods exist.",IF(AX47>0,"Your stay exceeds a 12-month period. Please email us as per instructions under Section 1.", ""))))))))
F48: Period 10 | W48: =IF(AY48="highlight period",AZ48,IF(OR(M48="",R48="",$AY$51>0),"",IF(days!$E$3="calendar",days!N22,IF(AND(M49<>"",R49<>""),"",days!N41)))) | AS48: =IF(AND(M48="",R48=""),"",IF(OR(M48<$AX$37,M48>$AZ$37,R48>$AZ$37,R48<M48,SUM(AT48:AX48)>0),"error","")) | AT48: =COUNTIF($AS$38:AS47,"error") -> 0 | AU48: =IF(AND(R48<>"",M48=""),1,0) -> 0 | AV48: =IF(OR(R48="",M48=""),0,IF(R48-M48>=0,0,1)) -> 0 | AW48: =IF(OR(M49="",R48=""),0,IF(M49-R48>0,0,1)) -> 0 | AX48: =IF(days!$E$3="moving",IF(R48>$AX$38,1,0),0) -> 0 | AY48: =IF(AZ48<>"","highlight period","ok") -> ok | AZ48: =IF((AND(COUNTBLANK(M48)+COUNTBLANK(R48)=2,COUNTA(M49:$M$50)+COUNTA(R49:$R$50)>0))=TRUE,"Do not skip any row",IF(AZ47="Do not skip any row","",IF(COUNTBLANK(M48)+COUNTBLANK(R48)=2,"",IF(COUNTBLANK(M48)=1,"Please enter date of arrival in Singapore",IF(COUNTBLANK(R48)=1,"Please enter date of departure from Singapore",IF(R48<M48,"Date of departure from Singapore is earlier than date of arrival in Singapore",IF(AW48>0,"Please check that no overlapping periods exist.",IF(AX48>0,"Your stay exceeds a 12-month period. Please email us as per instructions under Section 1.", ""))))))))
F49: Period 11 | W49: =IF(AY49="highlight period",AZ49,IF(OR(M49="",R49="",$AY$51>0),"",IF(days!$E$3="calendar",days!N23,IF(AND(M50<>"",R50<>""),"",days!N42)))) | AS49: =IF(AND(M49="",R49=""),"",IF(OR(M49<$AX$37,M49>$AZ$37,R49>$AZ$37,R49<M49,SUM(AT49:AX49)>0),"error","")) | AT49: =COUNTIF($AS$38:AS48,"error") -> 0 | AU49: =IF(AND(R49<>"",M49=""),1,0) -> 0 | AV49: =IF(OR(R49="",M49=""),0,IF(R49-M49>=0,0,1)) -> 0 | AW49: =IF(OR(M50="",R49=""),0,IF(M50-R49>0,0,1)) -> 0 | AX49: =IF(days!$E$3="moving",IF(R49>$AX$38,1,0),0) -> 0 | AY49: =IF(AZ49<>"","highlight period","ok") -> ok | AZ49: =IF((AND(COUNTBLANK(M49)+COUNTBLANK(R49)=2,COUNTA(M50:$M$50)+COUNTA(R50:$R$50)>0))=TRUE,"Do not skip any row",IF(AZ48="Do not skip any row","",IF(COUNTBLANK(M49)+COUNTBLANK(R49)=2,"",IF(COUNTBLANK(M49)=1,"Please enter date of arrival in Singapore",IF(COUNTBLANK(R49)=1,"Please enter date of departure from Singapore",IF(R49<M49,"Date of departure from Singapore is earlier than date of arrival in Singapore",IF(AW49>0,"Please check that no overlapping periods exist.",IF(AX49>0,"Your stay exceeds a 12-month period. Please email us as per instructions under Section 1.", ""))))))))
F50: Period 12 | W50: =IF(AY50="highlight period",AZ50,IF(OR(M50="",R50="",$AY$51>0),"",IF(days!$E$3="calendar",days!N24,days!N43))) | AS50: =IF(AND(M50="",R50=""),"",IF(OR(M50<$AX$37,M50>$AZ$37,R50>$AZ$37,R50<M50,SUM(AT50:AX50)>0),"error","")) | AT50: =COUNTIF($AS$38:AS49,"error") -> 0 | AU50: =IF(AND(R50<>"",M50=""),1,0) -> 0 | AV50: =IF(OR(R50="",M50=""),0,IF(R50-M50>=0,0,1)) -> 0 | AW50: 0 | AX50: =IF(days!$E$3="moving",IF(R50>$AX$38,1,0),0) -> 0 | AY50: =IF(AZ50<>"","highlight period","ok") -> ok | AZ50: =IF((AND(COUNTBLANK(M50)+COUNTBLANK(R50)=2,COUNTA(M$50:$M51)+COUNTA(R$50:$R51)>0))=TRUE,"Do not skip any row",IF(AZ49="Do not skip any row","",IF(COUNTBLANK(M50)+COUNTBLANK(R50)=2,"",IF(COUNTBLANK(M50)=1,"Please enter date of arrival in Singapore",IF(COUNTBLANK(R50)=1,"Please enter date of departure from Singapore",IF(R50<M50,"Date of departure from Singapore is earlier than date of arrival in Singapore",IF(AW50>0,"Please check that no overlapping periods exist.",IF(AX50>0,"Your stay exceeds a 12-month period. Please email us as per instructions under Section 1.", ""))))))))
AY51: =COUNTIF(AY39:AY50,"highlight period") -> 0
G53: =IF($AE$13="","",IF(days!$E$3<>"calendar","","Total stay in Singapore:")) | Q53: =IF($AE$13="","",IF(OR(days!$E$3<>"calendar",days!I25=0),"",IF($AY$51>0,"error",CONCATENATE(days!I25,IF(days!I25=1," day"," days")," (year ",days!I12,")")))) | AB53: =IF($AE$13="","",IF(OR(days!$E$3<>"calendar",days!J25=0),"",IF($AY$51>0,"error",CONCATENATE(days!J25,IF(days!J25=1," day"," days")," (year ",days!J12,")")))) | AX53: =IF(AND($AZ$51<=0,days!I25>183),days!I12,"") | AY53: =IF(AND($AZ$51<=0,days!J25>183),days!J12,"")
B56: RESULT | AS56: =IF($AE$13="","Hide",IF(AND($D$59=calcNresults!$C$105,COUNTA($I$79,$AH$79)>0),"Show","Hide")) -> Hide
B57: =IF(days!E3="moving",calcNresults!C127,"")
D59: =IF(AX39=1,calcNresults!C37,IF(OR($AE$13="",$AY$51>0),"",IF(days!$E$3="limited treaty",calcNresults!C64,IF(calcNresults!$D$31="No",calcNresults!C37,IF(calcNresults!$D$31="Yes",calcNresults!C46,IF(calcNresults!$D$31="partial",calcNresults!C55,""))))))
C60: =IF(OR(D60="",calcNresults!$D$31="partial"),"",CONCATENATE("-",CHAR(10))) | D60: =IF(AX39=1,calcNresults!C38,IF(OR($AE$13="",$AY$51>0),"",IF(days!$E$3="limited treaty",calcNresults!C65,IF(calcNresults!$D$31="No",calcNresults!C38,IF(calcNresults!$D$31="Yes",calcNresults!C47,IF(calcNresults!$D$31="partial",calcNresults!C56,""))))))
C61: =IF(OR(D61="",calcNresults!$D$31="partial"),"",CONCATENATE("-",CHAR(10))) | D61: =IF(AX39=1,calcNresults!C39,IF(OR($AE$13="",$AY$51>0),"",IF(days!$E$3="limited treaty",calcNresults!C66,IF(calcNresults!$D$31="No",calcNresults!C39,IF(calcNresults!$D$31="Yes",calcNresults!C48,IF(calcNresults!$D$31="partial",calcNresults!C57,""))))))
C62: =IF(OR(D62="",calcNresults!$D$31="partial"),"","-") | D62: =IF(AX39=1,calcNresults!C40,IF(OR($AE$13="",$AY$51>0),"",IF(days!$E$3="limited treaty",calcNresults!C67,IF(calcNresults!$D$31="No",calcNresults!C40,IF(calcNresults!$D$31="Yes",calcNresults!C49,IF(calcNresults!$D$31="partial",calcNresults!C58,""))))))
C63: =IF(OR(D63="",calcNresults!$D$31="partial"),"","-") | D63: =IF(AX39=1,calcNresults!C41,IF(OR($AE$13="",$AY$51>0),"",IF(days!$E$3="limited treaty",calcNresults!C68,IF(calcNresults!$D$31="No",calcNresults!C41,IF(calcNresults!$D$31="Yes",calcNresults!C50,IF(calcNresults!$D$31="partial",calcNresults!C59,""))))))
D64: =IF(AX39=1,calcNresults!C42,IF(OR($AE$13="",$AY$51>0),"",IF(days!$E$3="limited treaty",calcNresults!C69,IF(calcNresults!$D$31="No",calcNresults!C42,IF(calcNresults!$D$31="Yes",calcNresults!C51,IF(calcNresults!$D$31="partial",calcNresults!C60,""))))))
D65: =IF(AX39=1,calcNresults!C43,IF(OR($AE$13="",$AY$51>0),"",IF(days!$E$3="limited treaty",calcNresults!C70,IF(calcNresults!$D$31="No",calcNresults!C43,IF(calcNresults!$D$31="Yes",calcNresults!C52,IF(calcNresults!$D$31="partial",calcNresults!C61,"")))))) | Y65: =IF(AX39=1,calcNresults!G43,IF(OR($AE$13="",$AY$51>0),"",IF(days!$E$3="limited treaty",calcNresults!G70,IF(calcNresults!$D$31="No",calcNresults!G43,IF(calcNresults!$D$31="Yes",calcNresults!G52,IF(calcNresults!$D$31="partial",calcNresults!G61,""))))))
...

Sheet matrix
B1: Countries | C1: Conditions
B2: 1 | C2: 2 | D2: =C2+1 -> 3 | E2: =D2+1 -> 4 | F2: =E2+1 -> 5 | H2: =F2+1 -> 6 | I2: 7 | J2: 8 | K2: 9 | L2: 10
A3: S/No | C3: Stay =/< 183 days in a calendar year | D3: Stay =/< 183 days in moving 12-mth period | E3: Remuneration paid by / on behalf of employer who is not a resident of Singapore | F3: Remuneration paid by / on behalf of employer who is a resident of TP's country of residence | G3: Remuneration paid by / on behalf of employer who is a resident of TP's country of residence and whose activity does not consist of hiring out of labour | H3: Services are performed for / on behalf of employer who is not a resident of Singapore | I3: Services performed for / on behalf of employer who is a resident of TP's country of residence | J3: Remuneration not borne by PE or fixed base which the employer has in Singapore | K3: Remuneration not (directly) deductible from profits for Singapore tax purpose of a PE in Singapore | L3: Remuneration / profits subject to tax in TP's country of residence | M3: Total no of conditions to be met | N3: Effective date | O3: Effective YA | P3: Remarks
A4: 1 | B4: Albania | D4: 1 | E4: 1 | J4: 1 | M4: =SUM(C4:L4) -> 3 | N4: 1.1.2012 | O4: YA 2013 | Q4: =B4 -> Albania
A5: 2 | B5: Armenia | D5: 1 | E5: 1 | J5: 1 | M5: 3 | N5: 1.1.2022 | O5: YA 2023 | Q5: =B5 -> Armenia
A6: 3 | B6: Australia | C6: 1 | I6: 1 | K6: 1 | M6: =SUM(C6:L6) -> 3 | N6: 1.1.1969 | O6: YA 1970 | Q6: =B6 -> Australia
A7: 4 | B7: Austria | D7: 1 | E7: 1 | J7: 1 | M7: =SUM(C7:L7) -> 3 | N7: 1.1.2003 | O7: YA 2004 | Q7: =B7 -> Austria
A8: 5 | B8: Bahrain | C8: 1 | E8: 1 | J8: 1 | M8: =SUM(C8:L8) -> 3 | N8: 1.1.2005 | O8: YA 2006 | Q8: =B8 -> Bahrain
A9: 6 | B9: Bangladesh | C9: 1 | I9: 1 | J9: 1 | M9: =SUM(C9:L9) -> 3 | N9: 1.1.1979 | O9: YA1980 | Q9: =B9 -> Bangladesh
A10: 7 | B10: Barbados | C10: 1 | E10: 1 | J10: 1 | M10: 3 | N10: 1.1.2015 | O10: YA2016 | Q10: =B10 -> Barbados
A11: 8 | B11: Belarus | D11: 1 | E11: 1 | J11: 1 | M11: =SUM(C11:L11) -> 3 | N11: 1.1.2014 | O11: YA 2015 | Q11: =B11 -> Belarus
A12: 9 | B12: Belgium | D12: 1 | E12: 1 | J12: 1 | M12: =SUM(C12:L12) -> 3 | N12: 1.1.2009 | O12: YA2010 | Q12: =B12 -> Belgium
A13: 10 | B13: Brazil | D13: 1 | E13: 1 | J13: 1 | M13: =SUM(C13:L13) -> 3 | N13: 1.1.2022 | O13: YA2023 | Q13: =B13 -> Brazil
A14: 11 | B14: Brunei | D14: 1 | F14: 1 | J14: 1 | M14: =SUM(C14:L14) -> 3 | N14: 1.1.2007 | O14: YA2008 | Q14: =B14 -> Brunei
A15: 12 | B15: Bulgaria | D15: 1 | E15: 1 | J15: 1 | M15: =SUM(C15:L15) -> 3 | N15: 1.1.1998 | O15: YA1999 | Q15: =B15 -> Bulgaria
A16: 13 | B16: Cambodia | D16: 1 | E16: 1 | J16: 1 | M16: =SUM(C16:L16) -> 3 | N16: 1.1.2018 | O16: YA 2019 | Q16: =B16 -> Cambodia
A17: 14 | B17: Canada | C17: 1 | F17: 1 | J17: 1 | M17: =SUM(C17:L17) -> 3 | N17: 1.1.1977 | O17: YA1978 | P17: not borne directly or indirectly | Q17: =B17 -> Canada
A18: 15 | B18: Chile | M18: =SUM(C18:L18) -> 0 | P18: Limited treaty | Q18: =B18 -> Chile
A19: 16 | B19: China | D19: 1 | E19: 1 | J19: 1 | M19: =SUM(C19:L19) -> 3 | N19: 1.1.2008 | O19: YA2009 | Q19: =B19 -> China
A20: 17 | B20: Cyprus | C20: 1 | F20: 1 | J20: 1 | M20: =SUM(C20:L20) -> 3 | N20: 1.1.2002 | O20: YA2003 | Q20: =B20 -> Cyprus
A21: 18 | B21: Czech Republic | D21: 1 | E21: 1 | J21: 1 | M21: =SUM(C21:L21) -> 3 | N21: 1.1.1999 | O21: YA2000 | Q21: =B21 -> Czech Republic
A22: 19 | B22: Denmark | D22: 1 | F22: 1 | J22: 1 | M22: =SUM(C22:L22) -> 3 | N22: 1.1.2001 | O22: YA2002 | Q22: =B22 -> Denmark
A23: 20 | B23: Ecuador | D23: 1 | E23: 1 | J23: 1 | M23: 3 | N23: 1.1.2016 | O23: YA 2017 | Q23: =B23 -> Ecuador
A24: 21 | B24: Egypt | C24: 1 | E24: 1 | J24: 1 | M24: =SUM(C24:L24) -> 3 | N24: 1.1.2005 | O24: YA2006 | Q24: =B24 -> Egypt
A25: 22 | B25: Estonia | D25: 1 | E25: 1 | J25: 1 | M25: =SUM(C25:L25) -> 3 | N25: 1.1.2008 | O25: YA2009 | Q25: =B25 -> Estonia
A26: 23 | B26: Ethiopia | D26: 1 | E26: 1 | J26: 1 | M26: =SUM(C26:L26) -> 3 | N26: 1.1.2018 | O26: YA 2019 | Q26: =B26 -> Ethiopia
A27: 24 | B27: Fiji | D27: 1 | E27: 1 | J27: 1 | M27: =SUM(C27:L27) -> 3 | N27: 1.1.2007 | O27: YA2008 | Q27: =B27 -> Fiji
A28: 25 | B28: Finland | D28: 1 | E28: 1 | J28: 1 | M28: =SUM(C28:L28) -> 3 | N28: 1.1.2003 | O28: YA2004 | Q28: =B28 -> Finland
A29: 26 | B29: France | D29: 1 | E29: 1 | J29: 1 | M29: =SUM(C29:L29) -> 3 | N29: 1.1.2017 | O29: YA 2018 | Q29: =B29 -> France
A30: 27 | B30: Georgia | C30: 1 | E30: 1 | J30: 1 | M30: =SUM(C30:L30) -> 3 | N30: 1.1.2011 | O30: YA2012 | Q30: =B30 -> Georgia
A31: 28 | B31: Germany | D31: 1 | E31: 1 | J31: 1 | L31: 1 | M31: =SUM(C31:L31) -> 4 | N31: 1.1.2007 | O31: YA2008 | Q31: =B31 -> Germany
A32: 29 | B32: Ghana | D32: 1 | E32: 1 | J32: 1 | M32: =SUM(C32:L32) -> 3 | N32: 1.1.2020 | O32: YA2021 | Q32: =B32 -> Ghana
A33: 30 | B33: Greece | D33: 1 | E33: 1 | J33: 1 | M33: =SUM(C33:L33) -> 3 | N33: 1.1.2023 | O33: YA2024 | Q33: =B33 -> Greece
A34: 31 | B34: Guernsey | D34: 1 | E34: 1 | J34: 1 | M34: =SUM(C34:L34) -> 3 | N34: 1.1.2014 | O34: YA2015 | Q34: =B34 -> Guernsey
A35: 32 | B35: Hong Kong | M35: =SUM(C35:L35) -> 0 | P35: Limited treaty | Q35: =B35 -> Hong Kong
A36: 33 | B36: Hungary | D36: 1 | E36: 1 | J36: 1 | M36: =SUM(C36:L36) -> 3 | N36: 1.1.1999 | O36: YA2000 | Q36: =B36 -> Hungary
A37: 34 | B37: India | C37: 1 | E37: 1 | J37: 1 | M37: =SUM(C37:L37) -> 3 | N37: 1.1.1994 | O37: YA1995 | Q37: =B37 -> India
A38: 35 | B38: Indonesia | D38: 1 | F38: 1 | J38: 1 | M38: =SUM(C38:L38) -> 3 | N38: 1.1.2022 | O38: YA 2023 | Q38: =B38 -> Indonesia
A39: 36 | B39: Ireland | C39: 1 | E39: 1 | J39: 1 | M39: 3 | N39: 1.1.2011 | O39: YA 2012 | Q39: =B39 -> Ireland
A40: 37 | B40: Isle of Man | D40: 1 | E40: 1 | J40: 1 | M40: 3 | N40: 1.1.2014 | O40: YA2015 | Q40: =B40 -> Isle of Man
...

Sheet calcNresults
B4: 1 | C4: =B4+1 -> 2 | D4: =C4+1 -> 3 | E4: =D4+1 -> 4 | F4: =E4+1 -> 5 | G4: =F4+1 -> 6 | H4: =G4+1 -> 7 | I4: =H4+1 -> 8 | J4: =I4+1 -> 9 | ... L4: =K4+1 -> 11 | N4: 15
B5: Criteria | C5: Stay =/< 183 days in a calendar year | D5: Stay =/< 183 days in moving 12-mth period | E5: Remuneration paid by / on behalf of employer who is not a resident of Singapore | F5: Remuneration paid by / on behalf of employer who is a resident of TP's country of residence | G5: Remuneration paid by / on behalf of employer who is a resident of TP's country of residence and whose activity does not consist of hiring out of labour | H5: Services are performed for / on behalf of employer who is not a resident of Singapore | I5: Services performed for / on behalf of employer who is a resident of TP's country of residence | J5: Remuneration not borne by PE or fixed base which the employer has in Singapore | K5: Remuneration not (directly) deductible from profits for Singapore tax purpose of a PE in Singapore | L5: Remuneration / profits subject to tax in TP's country of residence | M5: Total no of conditions to be met | N5: Newly Effective since..
B6: ='NRE Calculator'!AE13 -> 0 | C6: =VLOOKUP($B$6,matrix,C4,FALSE) -> #N/A | D6: =VLOOKUP($B$6,matrix,D4,FALSE) -> #N/A | E6: =VLOOKUP($B$6,matrix,E4,FALSE) -> #N/A | F6: =VLOOKUP($B$6,matrix,F4,FALSE) -> #N/A | G6: =VLOOKUP($B$6,matrix,G4,FALSE) -> #N/A | H6: =VLOOKUP($B$6,matrix,H4,FALSE) -> #N/A | I6: =VLOOKUP($B$6,matrix,I4,FALSE) -> #N/A | J6: =VLOOKUP($B$6,matrix,J4,FALSE) -> #N/A | ... L6: =VLOOKUP($B$6,matrix,L4,FALSE) -> #N/A | M6: =SUM(E6:L6) -> #N/A | N6: =IF(VLOOKUP(B6,matrix,N4,FALSE)="new",RIGHT(VLOOKUP(B6,matrix,13,FALSE),4),"") -> #N/A
B7: To derive Question No. - step 1 | E7: =SUM($E$6:E6) -> #N/A | F7: =SUM($E$6:F6) -> #N/A | G7: =SUM($E$6:G6) -> #N/A | H7: =SUM($E$6:H6) -> #N/A | I7: =SUM($E$6:I6) -> #N/A | J7: =SUM($E$6:J6) -> #N/A | K7: =SUM($E$6:K6) -> #N/A | L7: =SUM($E$6:L6) -> #N/A
B8: To derive Question No. - step 2 | E8: =E7 -> #N/A | F8: =F7-SUM($E$8:E8) -> #N/A | G8: =G7-SUM($E$8:F8) -> #N/A | H8: =H7-SUM($E$8:G8) -> #N/A | I8: =I7-SUM($E$8:H8) -> #N/A | J8: =J7-SUM($E$8:I8) -> #N/A | K8: =K7-SUM($E$8:J8) -> #N/A | L8: =L7-SUM($E$8:K8) -> #N/A
B9: Question no. | C9: =IF(C8=0,"",SUM($C$8:C8)) | D9: =IF(D8=0,"",SUM($C$8:D8)) | E9: =IF(E8=0,"",SUM($E$8:E8)) -> #N/A | F9: =IF(F8=0,"",SUM($E$8:F8)) -> #N/A | G9: =IF(G8=0,"",SUM($E$8:G8)) -> #N/A | H9: =IF(H8=0,"",SUM($E$8:H8)) -> #N/A | I9: =IF(I8=0,"",SUM($E$8:I8)) -> #N/A | J9: =IF(J8=0,"",SUM($E$8:J8)) -> #N/A | K9: =IF(K8=0,"",SUM($E$8:K8)) -> #N/A | L9: =IF(L8=0,"",SUM($E$8:L8)) -> #N/A
C12: =C9 | D12: =D9 | E12: =E9 -> #N/A | F12: =F9 -> #N/A | G12: =G9 -> #N/A | H12: =H9 -> #N/A | I12: =I9 -> #N/A | J12: =J9 -> #N/A | ... L12: =L9 -> #N/A
B13: Criteria | C13: Stay =/< 183 days in a calendar year | D13: Stay =/< 183 days in moving 12-mth period | E13: Remuneration paid by / on behalf of employer who is not a resident of Singapore | F13: Remuneration paid by / on behalf of employer who is a resident of TP's country of residence | G13: Remuneration paid by / on behalf of employer who is a resident of TP's country of residence and whose activity does not consist of hiring out of labour | H13: Services are performed for / on behalf of employer who is not a resident of Singapore | I13: Services performed for / on behalf of employer who is a resident of TP's country of residence | J13: Remuneration not borne by PE or fixed base which the employer has in Singapore | K13: Remuneration not (directly) deductible from profits for Singapore tax purpose of a PE in Singapore | L13: Remuneration / profits subject to tax in TP's country of residence | M13: Total no of conditions to be met
B14: Corresponding question | E14: Is your remuneration paid by your foreign employer or by a company on behalf of your foreign employer? | F14: =CONCATENATE("Is your remuneration paid by your foreign employer or on behalf of a foreign company in ",VLOOKUP($B$6,matrix,16,FALSE),"?") -> #N/A | G14: =CONCATENATE("Is your remuneration paid by your employer in ",VLOOKUP($B$6,matrix,16,FALSE)," or on behalf of a foreign employer in ",VLOOKUP($B$6,matrix,16,FALSE)," and whose activity does not consist of hiring out of labour?") -> #N/A | H14: Are you performing services in Singapore for your foreign employer or for a company on behalf of your foreign employer? | I14: =CONCATENATE("Are you performing services in Singapore for your foreign employer in ",VLOOKUP($B$6,matrix,16,FALSE)," or on behalf of a foreign company in ",VLOOKUP($B$6,matrix,16,FALSE),"?") -> #N/A | J14: Is your remuneration borne by a permanent establishment or a fixed base (e.g. a place of management, a branch, an office) which your foreign employer has in Singapore? | K14: =CONCATENATE("Is your remuneration",IF(OR('NRE Calculator'!AE13="Australia",'NRE Calculator'!AE13="New Zealand"),""," directly")," deductible from profits (for Singapore tax purpose) of a permanent establishment (e.g. a place of management, a branch, an office) which your foreign employer has in Singapore?") -> Is your remuneration directly deductible from profits (for Singapore tax purpose) of a permanent establishment (e.g. a place of management, a branch, an office) which your foreign employer has in Singapore? | L14: =CONCATENATE("Is your remuneration subjected to tax in ",VLOOKUP($B$6,matrix,16,FALSE),"?") -> #N/A
B15: Corresponding answer to qualify | E15: Yes | F15: Yes | G15: Yes | H15: Yes | I15: Yes | J15: No | K15: No | L15: Yes
B16: Error message | C16: =CONCATENATE("Your physical presence in Singapore exceeded 183 days ",days!F4,days!H4) -> Your physical presence in Singapore exceeded 183 days in the calendar year? | D16: =IF(B6="Saudi Arabia","Your physical presence in Singapore exceeded 182 days in the relevant 12-month moving period.","Your physical presence in Singapore exceeded 183 days in the relevant 12-month moving period.") -> Your physical presence in Singapore exceeded 183 days in the relevant 12-month moving period. | E16: Your remuneration is not paid by your foreign employer or by a company on behalf of your foreign employer. | F16: =CONCATENATE("Your remuneration is not paid by your foreign employer or on behalf of a foreign company in ",VLOOKUP($B$6,matrix,16,FALSE),".") -> #N/A | G16: =CONCATENATE("Your remuneration is not paid by your employer in ",VLOOKUP($B$6,matrix,16,FALSE)," or on behalf of a foreign employer in ",VLOOKUP($B$6,matrix,16,FALSE)," and whose activity does not consist of hiring out of labour.") -> #N/A | H16: Services performed in Singapore are not for your foreign employer or for a company on behalf of your foreign employer. | I16: =CONCATENATE("Services performed in Singapore are not for your foreign employer in ",VLOOKUP($B$6,matrix,16,FALSE)," or on behalf of a foreign company in ",VLOOKUP($B$6,matrix,16,FALSE),".") -> #N/A | J16: Your remuneration is borne by a permanent establishment or a fixed base which your foreign employer has in Singapore. | K16: =CONCATENATE("Your remuneration is",IF(OR('NRE Calculator'!AE13="Australia",'NRE Calculator'!AE13="New Zealand"),""," directly")," deductible from profits (for Singapore tax purpose) of a permanent establishment which your foreign employer has in Singapore.") -> Your remuneration is directly deductible from profits (for Singapore tax purpose) of a permanent establishment which your foreign employer has in Singapore. | L16: =CONCATENATE("Your remuneration is not subjected to tax in ",VLOOKUP($B$6,matrix,16,FALSE),".") -> #N/A
B17: Populated for Tax Officer's Review (Employee declaration) | E17: my remuneration is paid by my foreign employer or by a company on behalf of my foreign employer | F17: =CONCATENATE("my remuneration is paid by my foreign employer or on behalf of a foreign company in ",VLOOKUP($B$6,matrix,16,FALSE)) -> #N/A | G17: =CONCATENATE("my remuneration is paid by my employer in ",VLOOKUP($B$6,matrix,16,FALSE)," or on behalf of a foreign employer in ",VLOOKUP($B$6,matrix,16,FALSE)," and whose activity does not consist of hiring out of labour") -> #N/A | H17: services performed in Singapore are for my foreign employer or for a company on behalf of my foreign employer | I17: =CONCATENATE("services performed in Singapore are for my foreign employer in ",VLOOKUP($B$6,matrix,16,FALSE)," or on behalf of a foreign company in ",VLOOKUP($B$6,matrix,16,FALSE)) -> #N/A | J17: my remuneration is not borne by a permanent establishment or a fixed base which my foreign employer has in Singapore | K17: =CONCATENATE("my remuneration is not",IF(OR('NRE Calculator'!AE13="Australia",'NRE Calculator'!AE13="New Zealand"),""," directly")," deductible from profits (for Singapore tax purpose) of a permanent establishment which my foreign employer has in Singapore") -> my remuneration is not directly deductible from profits (for Singapore tax purpose) of a permanent establishment which my foreign employer has in Singapore | L17: =CONCATENATE("my remuneration is subjected to tax in ",VLOOKUP($B$6,matrix,16,FALSE)) -> #N/A
B18: Populated for Tax Officer's Review (Employer declaration) | J18: the employee's remuneration is not borne by a permanent establishment or a fixed base which we have in Singapore. | K18: =CONCATENATE("the employee's remuneration is not",IF(OR('NRE Calculator'!AE13="Australia",'NRE Calculator'!AE13="New Zealand"),""," directly")," deductible from profits (for Singapore tax purpose) of a permanent establishment which we have in Singapore") -> the employee's remuneration is not directly deductible from profits (for Singapore tax purpose) of a permanent establishment which we have in Singapore
A20: 1 | C20: =IF($M$6>=A20,A20,"") -> #N/A | D20: =IF(C20="","",HLOOKUP(C20,$E$12:$L$15,3,FALSE)) -> #N/A
A21: 2 | C21: =IF($M$6>=A21,A21,"") -> #N/A | D21: =IF(C21="","",HLOOKUP(C21,$E$12:$L$15,3,FALSE)) -> #N/A
A22: 3 | C22: =IF($M$6>=A22,A22,"") -> #N/A | D22: =IF(C22="","",HLOOKUP(C22,$E$12:$L$15,3,FALSE)) -> #N/A
C26: Results | D26: Qualify? | E26: Error Count | F26: Results Message | G26: Populated for Tax Officer's review | H26: To derive error count - step 1 | I26: To derive error count - step 2 | J26: Error count
C27: 1 | D27: =IF(OR('NRE Calculator'!AJ20="",C20=""),"",IF('NRE Calculator'!AJ20=HLOOKUP(C27,$E$12:$M$16,4,FALSE),"Yes","No")) -> #N/A | E27: =J27 | F27: =IF(OR(D27="",D27="Yes"),"",HLOOKUP(C27,$E$12:$M$16,5,FALSE)) -> #N/A | G27: =IF(D27="Yes",HLOOKUP(C27,$E$12:$M$17,6,FALSE),"") -> #N/A | H27: =COUNTIF(D27,"No") -> 0 | I27: =SUM($H$27:H27) -> 0 | J27: =IF(I27=0,"",I27)
C28: 2 | D28: =IF(OR('NRE Calculator'!AJ23="",C21=""),"",IF('NRE Calculator'!AJ23=HLOOKUP(C28,$E$12:$M$16,4,FALSE),"Yes","No")) -> #N/A | E28: =J28 | F28: =IF(OR(D28="",D28="Yes"),"",HLOOKUP(C28,$E$12:$M$16,5,FALSE)) -> #N/A | G28: =IF(D28="Yes",HLOOKUP(C28,$E$12:$M$17,6,FALSE),C129) -> #N/A | H28: =COUNTIF(D28,"No") -> 0 | I28: =SUM($H$27:H28) -> 0 | J28: =IF(I28<>I27,I28,"")
C29: 3 | D29: =IF(OR('NRE Calculator'!AJ26="",C22=""),"",IF('NRE Calculator'!AJ26=HLOOKUP(C29,$E$12:$M$16,4,FALSE),"Yes","No")) -> #N/A | E29: =J29 | F29: =IF(OR(D29="",D29="Yes"),"",HLOOKUP(C29,$E$12:$M$16,5,FALSE)) -> #N/A | G29: =IF(D29="Yes",HLOOKUP(C29,$E$12:$M$17,6,FALSE),C129) -> #N/A | H29: =COUNTIF(D29,"No") -> 0 | I29: =SUM($H$27:H29) -> 0 | J29: =IF(I29<>I28,I29,"")
C30: No. of days | D30: =IF(AND(days!E4<>0,'NRE Calculator'!AX39=1,OR(days!E3="calendar",days!E3="moving")),I33,IF(AND(days!E4<>0,'NRE Calculator'!AY51=0,OR(days!E3="calendar",days!E3="moving")),I33,"")) | E30: =J30 | F30: =IF(OR(D30="",D30="Yes"),"",IF(OR(days!I29="None",AND(days!I27=days!I30,days!E3="moving",days!E4<=183)),C101,IF(AND(days!E2="Luxembourg",days!F56="Yes",days!F57="No",days!G56="No"),"Your physical presence in Singapore exceeded 183 days in the calendar year 2015.",IF(days!E3="calendar",C16,D16)))) | H30: =COUNTIF(D30,"No")+COUNTIF(D30,"partial") -> 0 | I30: =SUM($H$27:H30) -> 0 | J30: =IF(I30<>I29,I30,"")
C31: Overall | D31: =IF(COUNTIF($D$27:$D$30,"No")>0,"No",IF($E$34="Yes",IF($D$30="Partial","Partial","Yes"),"")) | E31: - | F31: -
E33: Overall | F33: Section 2 | I33: =IF(days!I29="None","No",IF(days!E2="Saudi Arabia",calcNresults!J33,calcNresults!K33)) -> #N/A | J33: =IF(days!I29="None","No",IF(AND(days!E3="moving",days!E4>182),"No",IF(AND(days!E3="moving",days!E4<=182,days!I29="both"),"Yes",IF(AND(days!E3="moving",days!E4<=182),"partial",IF(AND(days!E3="calendar",OR(days!I26="both",AND(days!I26<>"",days!I27=""))),"Yes",IF(days!I26<>"","partial","No")))))) -> #N/A | K33: =IF(days!I29="None","No",IF(AND(days!E3="moving",days!E4>183),"No",IF(AND(days!E3="moving",days!E4<=183,days!I29="both"),"Yes",IF(AND(days!E3="moving",days!E4<=183),"partial",IF(AND(days!E3="calendar",OR(days!I26="both",AND(days!I26<>"",days!I27=""))),"Yes",IF(days!I26<>"","partial","No")))))) -> #N/A
C34: All questions answered? | E34: =IF(OR('NRE Calculator'!$AE$13="",'NRE Calculator'!$AY$51>0),"No",IF(COUNTA(C27:C30)-COUNTIF(D27:D30,"")=MAX(C20:C22)+1,"Yes","No")) -> No | F34: =IF('NRE Calculator'!$AE$13="","No",IF(COUNTA(C27:C29)-COUNTIF(D27:D29,"")=MAX(C20:C22),"Yes","No")) -> No
C36: Results Box | D36: >>> when does not qualify
C37: =C102 -> #N/A
A38: 1 | B38: =IF(MAX($J$27:$J$30)>=A38,A38,"") | C38: =VLOOKUP(B38,$E$27:$F$30,2)
A39: 2 | B39: =IF(MAX($J$27:$J$30)>=A39,A39,"") | C39: =VLOOKUP(B39,$E$27:$F$30,2)
A40: 3 | B40: =IF(MAX($J$27:$J$30)>=A40,A40,"") | C40: =VLOOKUP(B40,$E$27:$F$30,2)
A41: 4 | B41: =IF(MAX($J$27:$J$30)>=A41,A41,"") | C41: =VLOOKUP(B41,$E$27:$F$30,2)
C42: =D103 -> Your income attributable to your services rendered in Singapore will be subject to tax in Singapore.
C43: =D104 -> For more information on your tax obligations, please click on | G43: =E104 -> 'If I work for a foreign employer'.
C45: Results Box | D45: >>> when qualifies
C46: =IF(AND(B6="Luxembourg",days!H56="YesYes"),C134,C105) -> #N/A
C47: =IF(AND(B6="Luxembourg",days!H56="YesYes"),C135,"")
C48: =IF(AND(B6="Luxembourg",days!H56="YesYes"),C136,D106) -> To claim exemption from Singapore income tax, please submit the completed and signed Claim Form (page 2) and original Certificate of Residence (page 3) below to the Comptroller of Income Tax.
C49: =IF(AND(B6="Luxembourg",days!H56="YesYes"),C137,D107)
C50: =IF(AND(B6="Luxembourg",days!H56="YesYes"),C138,"")
C51: =IF(AND(B6="Luxembourg",days!H56="YesYes"),C139,D108) -> #N/A
C52: =IF(AND(B6="Luxembourg",days!H56="YesYes"),C140,"") | G52: =IF(AND(B6="Luxembourg",days!H56="YesYes"),G140,"") | H52: =""
...

Sheet days
D2: Country selected: | E2: ='NRE Calculator'!AE13 -> 0
D3: Calendar / Moving / Limited Treaty: | E3: =IF('NRE Calculator'!$AE$13="","",IF(VLOOKUP(E2,matrix,2,FALSE)=1,"calendar",IF(VLOOKUP(days!E2,matrix,3,FALSE)=1,"moving","limited treaty")))
D4: No. days: | E4: =IF(E3="calendar",MAX(I25:J25),IF(E3="moving",MAX(M32:M41),"")) | F4: in the calendar year | H4: =IF(AND(I25>183,J25>183),CONCATENATE("s ",I12," and ",J12,"."),IF(I25>183,CONCATENATE(" ",I12,"."),IF(J25>183,CONCATENATE(" ",J12,"."),"?"))) -> ?
F6: From | G6: To | H6: To (moving)
D7: Last Year: | E7: =YEAR(TODAY())-1 -> 2025 | F7: =DATE(E7,1,1) -> 45658 | G7: =DATE(E7,12,31) -> 46022 | H7: =DATE(YEAR(TODAY())+1,12,31) -> 46752
D8: Current Year: | E8: =YEAR(TODAY()) -> 2026 | F8: =DATE(E8,1,1) -> 46023 | G8: =DATE(E8,12,31) -> 46387 | H8: =DATE(YEAR(TODAY())+1,12,31) -> 46752
G11: No. of days in (raw calc) | I11: No. of days in
D12: CALENDAR | E12: ='NRE Calculator'!M38 -> Date From | F12: ='NRE Calculator'!R38 -> Date To | G12: =E7 -> 2025 | H12: =E8 -> 2026 | I12: =E7 -> 2025 | J12: =E8 -> 2026 | N12: Message
D13: ='NRE Calculator'!F39 -> Period 1 | E13: =IF('NRE Calculator'!M39="","",'NRE Calculator'!M39) | F13: =IF('NRE Calculator'!R39="","",'NRE Calculator'!R39) | G13: =IF(OR(E13="",F13=""),"",IF(AND(YEAR(E13)=$G$12,YEAR(F13)=$G$12),F13-E13+1,$G$7-E13+1)) | H13: =IF(OR(E13="",F13=""),"",IF(AND(YEAR(E13)=$H$12,YEAR(F13)=$H$12),F13-E13+1,F13-$F$8+1)) | I13: =IF(G13<=0,0,G13) | J13: =IF(H13<=0,0,H13) | K13: =SUM(I13:J13) -> 0 | N13: =CONCATENATE($D$47,K13,IF(K13=1," day "," days "),$E$47,TEXT(E13,"DD-MMM-YYYY"),$F$47,TEXT(F13,"DD-MMM-YYYY"),$G$47) -> Your stay in Singapore totalled 0 days from to .
D14: ='NRE Calculator'!F40 -> Period 2 | E14: =IF('NRE Calculator'!M40="","",'NRE Calculator'!M40) | F14: =IF('NRE Calculator'!R40="","",'NRE Calculator'!R40) | G14: =IF(OR(E14="",F14=""),"",IF(AND(YEAR(E14)=$G$12,YEAR(F14)=$G$12),F14-E14+1,$G$7-E14+1)) | H14: =IF(OR(E14="",F14=""),"",IF(AND(YEAR(E14)=$H$12,YEAR(F14)=$H$12),F14-E14+1,F14-$F$8+1)) | I14: =IF(G14<=0,0,G14) | J14: =IF(H14<=0,0,H14) | K14: =SUM(I14:J14) -> 0 | N14: =CONCATENATE($D$47,K14,IF(K14=1," day "," days "),$E$47,TEXT(E14,"DD-MMM-YYYY"),$F$47,TEXT(F14,"DD-MMM-YYYY"),$G$47) -> Your stay in Singapore totalled 0 days from to .
D15: ='NRE Calculator'!F41 -> Period 3 | E15: =IF('NRE Calculator'!M41="","",'NRE Calculator'!M41) | F15: =IF('NRE Calculator'!R41="","",'NRE Calculator'!R41) | G15: =IF(OR(E15="",F15=""),"",IF(AND(YEAR(E15)=$G$12,YEAR(F15)=$G$12),F15-E15+1,$G$7-E15+1)) | H15: =IF(OR(E15="",F15=""),"",IF(AND(YEAR(E15)=$H$12,YEAR(F15)=$H$12),F15-E15+1,F15-$F$8+1)) | I15: =IF(G15<=0,0,G15) | J15: =IF(H15<=0,0,H15) | K15: =SUM(I15:J15) -> 0 | N15: =CONCATENATE($D$47,K15,IF(K15=1," day "," days "),$E$47,TEXT(E15,"DD-MMM-YYYY"),$F$47,TEXT(F15,"DD-MMM-YYYY"),$G$47) -> Your stay in Singapore totalled 0 days from to .
D16: ='NRE Calculator'!F42 -> Period 4 | E16: =IF('NRE Calculator'!M42="","",'NRE Calculator'!M42) | F16: =IF('NRE Calculator'!R42="","",'NRE Calculator'!R42) | G16: =IF(OR(E16="",F16=""),"",IF(AND(YEAR(E16)=$G$12,YEAR(F16)=$G$12),F16-E16+1,$G$7-E16+1)) | H16: =IF(OR(E16="",F16=""),"",IF(AND(YEAR(E16)=$H$12,YEAR(F16)=$H$12),F16-E16+1,F16-$F$8+1)) | I16: =IF(G16<=0,0,G16) | J16: =IF(H16<=0,0,H16) | K16: =SUM(I16:J16) -> 0 | N16: =CONCATENATE($D$47,K16,IF(K16=1," day "," days "),$E$47,TEXT(E16,"DD-MMM-YYYY"),$F$47,TEXT(F16,"DD-MMM-YYYY"),$G$47) -> Your stay in Singapore totalled 0 days from to .
D17: ='NRE Calculator'!F43 -> Period 5 | E17: =IF('NRE Calculator'!M43="","",'NRE Calculator'!M43) | F17: =IF('NRE Calculator'!R43="","",'NRE Calculator'!R43) | G17: =IF(OR(E17="",F17=""),"",IF(AND(YEAR(E17)=$G$12,YEAR(F17)=$G$12),F17-E17+1,$G$7-E17+1)) | H17: =IF(OR(E17="",F17=""),"",IF(AND(YEAR(E17)=$H$12,YEAR(F17)=$H$12),F17-E17+1,F17-$F$8+1)) | I17: =IF(G17<=0,0,G17) | J17: =IF(H17<=0,0,H17) | K17: =SUM(I17:J17) -> 0 | N17: =CONCATENATE($D$47,K17,IF(K17=1," day "," days "),$E$47,TEXT(E17,"DD-MMM-YYYY"),$F$47,TEXT(F17,"DD-MMM-YYYY"),$G$47) -> Your stay in Singapore totalled 0 days from to .
D18: ='NRE Calculator'!F44 -> Period 6 | E18: =IF('NRE Calculator'!M44="","",'NRE Calculator'!M44) | F18: =IF('NRE Calculator'!R44="","",'NRE Calculator'!R44) | G18: =IF(OR(E18="",F18=""),"",IF(AND(YEAR(E18)=$G$12,YEAR(F18)=$G$12),F18-E18+1,$G$7-E18+1)) | H18: =IF(OR(E18="",F18=""),"",IF(AND(YEAR(E18)=$H$12,YEAR(F18)=$H$12),F18-E18+1,F18-$F$8+1)) | I18: =IF(G18<=0,0,G18) | J18: =IF(H18<=0,0,H18) | K18: =SUM(I18:J18) -> 0 | N18: =CONCATENATE($D$47,K18,IF(K18=1," day "," days "),$E$47,TEXT(E18,"DD-MMM-YYYY"),$F$47,TEXT(F18,"DD-MMM-YYYY"),$G$47) -> Your stay in Singapore totalled 0 days from to .
D19: ='NRE Calculator'!F45 -> Period 7 | E19: =IF('NRE Calculator'!M45="","",'NRE Calculator'!M45) | F19: =IF('NRE Calculator'!R45="","",'NRE Calculator'!R45) | G19: =IF(OR(E19="",F19=""),"",IF(AND(YEAR(E19)=$G$12,YEAR(F19)=$G$12),F19-E19+1,$G$7-E19+1)) | H19: =IF(OR(E19="",F19=""),"",IF(AND(YEAR(E19)=$H$12,YEAR(F19)=$H$12),F19-E19+1,F19-$F$8+1)) | I19: =IF(G19<=0,0,G19) | J19: =IF(H19<=0,0,H19) | K19: =SUM(I19:J19) -> 0 | N19: =CONCATENATE($D$47,K19,IF(K19=1," day "," days "),$E$47,TEXT(E19,"DD-MMM-YYYY"),$F$47,TEXT(F19,"DD-MMM-YYYY"),$G$47) -> Your stay in Singapore totalled 0 days from to .
D20: ='NRE Calculator'!F46 -> Period 8 | E20: =IF('NRE Calculator'!M46="","",'NRE Calculator'!M46) | F20: =IF('NRE Calculator'!R46="","",'NRE Calculator'!R46) | G20: =IF(OR(E20="",F20=""),"",IF(AND(YEAR(E20)=$G$12,YEAR(F20)=$G$12),F20-E20+1,$G$7-E20+1)) | H20: =IF(OR(E20="",F20=""),"",IF(AND(YEAR(E20)=$H$12,YEAR(F20)=$H$12),F20-E20+1,F20-$F$8+1)) | I20: =IF(G20<=0,0,G20) | J20: =IF(H20<=0,0,H20) | K20: =SUM(I20:J20) -> 0 | N20: =CONCATENATE($D$47,K20,IF(K20=1," day "," days "),$E$47,TEXT(E20,"DD-MMM-YYYY"),$F$47,TEXT(F20,"DD-MMM-YYYY"),$G$47) -> Your stay in Singapore totalled 0 days from to .
D21: ='NRE Calculator'!F47 -> Period 9 | E21: =IF('NRE Calculator'!M47="","",'NRE Calculator'!M47) | F21: =IF('NRE Calculator'!R47="","",'NRE Calculator'!R47) | G21: =IF(OR(E21="",F21=""),"",IF(AND(YEAR(E21)=$G$12,YEAR(F21)=$G$12),F21-E21+1,$G$7-E21+1)) | H21: =IF(OR(E21="",F21=""),"",IF(AND(YEAR(E21)=$H$12,YEAR(F21)=$H$12),F21-E21+1,F21-$F$8+1)) | I21: =IF(G21<=0,0,G21) | J21: =IF(H21<=0,0,H21) | K21: =SUM(I21:J21) -> 0 | N21: =CONCATENATE($D$47,K21,IF(K21=1," day "," days "),$E$47,TEXT(E21,"DD-MMM-YYYY"),$F$47,TEXT(F21,"DD-MMM-YYYY"),$G$47) -> Your stay in Singapore totalled 0 days from to .
D22: ='NRE Calculator'!F48 -> Period 10 | E22: =IF('NRE Calculator'!M48="","",'NRE Calculator'!M48) | F22: =IF('NRE Calculator'!R48="","",'NRE Calculator'!R48) | G22: =IF(OR(E22="",F22=""),"",IF(AND(YEAR(E22)=$G$12,YEAR(F22)=$G$12),F22-E22+1,$G$7-E22+1)) | H22: =IF(OR(E22="",F22=""),"",IF(AND(YEAR(E22)=$H$12,YEAR(F22)=$H$12),F22-E22+1,F22-$F$8+1)) | I22: =IF(G22<=0,0,G22) | J22: =IF(H22<=0,0,H22) | K22: =SUM(I22:J22) -> 0 | N22: =CONCATENATE($D$47,K22,IF(K22=1," day "," days "),$E$47,TEXT(E22,"DD-MMM-YYYY"),$F$47,TEXT(F22,"DD-MMM-YYYY"),$G$47) -> Your stay in Singapore totalled 0 days from to .
D23: ='NRE Calculator'!F49 -> Period 11 | E23: =IF('NRE Calculator'!M49="","",'NRE Calculator'!M49) | F23: =IF('NRE Calculator'!R49="","",'NRE Calculator'!R49) | G23: =IF(OR(E23="",F23=""),"",IF(AND(YEAR(E23)=$G$12,YEAR(F23)=$G$12),F23-E23+1,$G$7-E23+1)) | H23: =IF(OR(E23="",F23=""),"",IF(AND(YEAR(E23)=$H$12,YEAR(F23)=$H$12),F23-E23+1,F23-$F$8+1)) | I23: =IF(G23<=0,0,G23) | J23: =IF(H23<=0,0,H23) | K23: =SUM(I23:J23) -> 0 | N23: =CONCATENATE($D$47,K23,IF(K23=1," day "," days "),$E$47,TEXT(E23,"DD-MMM-YYYY"),$F$47,TEXT(F23,"DD-MMM-YYYY"),$G$47) -> Your stay in Singapore totalled 0 days from to .
D24: ='NRE Calculator'!F50 -> Period 12 | E24: =IF('NRE Calculator'!M50="","",'NRE Calculator'!M50) | F24: =IF('NRE Calculator'!R50="","",'NRE Calculator'!R50) | G24: =IF(OR(E24="",F24=""),"",IF(AND(YEAR(E24)=$G$12,YEAR(F24)=$G$12),F24-E24+1,$G$7-E24+1)) | H24: =IF(OR(E24="",F24=""),"",IF(AND(YEAR(E24)=$H$12,YEAR(F24)=$H$12),F24-E24+1,F24-$F$8+1)) | I24: =IF(G24<=0,0,G24) | J24: =IF(H24<=0,0,H24) | K24: =SUM(I24:J24) -> 0 | N24: =CONCATENATE($D$47,K24,IF(K24=1," day "," days "),$E$47,TEXT(E24,"DD-MMM-YYYY"),$F$47,TEXT(F24,"DD-MMM-YYYY"),$G$47) -> Your stay in Singapore totalled 0 days from to .
D25: Earliest and Latest dates entered in the years: | E25: =YEAR(MIN(E13:F24)) -> 1900 | F25: =YEAR(MAX(E13:F24)) -> 1900 | H25: Total: | I25: =SUM(I13:I24) -> 0 | J25: =SUM(J13:J24) -> 0
G26: Relating to partial exemption (calendar) >> | H26: Qualify for Year: | I26: =IF(AND(E2="Luxembourg",I56="Partial"),VLOOKUP("Yes",$G$56:$J$57,4,FALSE),IF(AND(I25>0,I25<=183,J25>0,J25<=183,I29="both"),"both",IF(AND(I25>0,I25<=183,I30<>I12),I12,IF(AND(J25>0,J25<=183,I30<>J12),J12,"")))) -> #N/A
G27: Relating to partial exemption (calender) >> | H27: Don't qualify for Year: | I27: =IF(AND(E2="Luxembourg",OR(H56="YesNo",H56="NoYes")),VLOOKUP("No",$G$56:$J$57,4,FALSE),IF(AND(I26=I12,J25>0),J12,IF(AND(I26=J12,I25>0),I12,""))) -> #N/A
G29: Relating to partial exemption due to year DTA becomes effective >> | H29: Qualify for Year: | I29: =IF(calcNresults!N6="","both",IF(VALUE(calcNresults!N6)<=days!E25,"both",IF(VALUE(calcNresults!N6)=F25,F25,IF(VALUE(calcNresults!N6)>days!F25,"None","?")))) -> #N/A
G30: Relating to partial exemption due to year DTA becomes effective >> | H30: Don't qualify for Year: | I30: =IF(AND(I29=F25,F25<>E25),E25,"None") -> #N/A | Q30: =I31 -> Within 12 mths from Date From | AE30: step by step to derive relevant date from | AJ30: step by step to derive relevant date to
A31: check for "From" filled in | B31: check for "To" filled in | C31: Rank | D31: MOVING | E31: ='NRE Calculator'!M38 -> Date From | F31: ='NRE Calculator'!R38 -> Date To | G31: =CONCATENATE(E31," + 12 mths") -> Date From + 12 mths | H31: =CONCATENATE(F31," - 12 mths") -> Date To - 12 mths | I31: =CONCATENATE("Within 12 mths from ",E31) -> Within 12 mths from Date From | J31: =CONCATENATE("Within 12 mths before ",F31) -> Within 12 mths before Date To | K31: Relevant 12-mth period from (for display) | L31: Relevant 12-mth period to (for display) | M31: No. of Days! | N31: Message | Q31: =D32 -> Period 1 | R31: =D33 -> Period 2 | S31: =D34 -> Period 3 | T31: =D35 -> Period 4 | U31: =D36 -> Period 5 | V31: =D37 -> Period 6 | W31: =D38 -> Period 7 | X31: =D39 -> Period 8 | Y31: =D40 -> Period 9 | Z31: =D41 -> Period 10 | AA31: =D42 -> Period 11 | AB31: =D43 -> Period 12 | AE31: Step 1: Find min of "Date From + 1 yr" vs. "very last engagement's Date To" | AF31: Step 2: Calculate Step 1's date - 1yr | AG31: Step 3: Find max of "Date derived in Step 2" vs. "very first engagement's Date From" | AJ31: Step 1: Find "Date From" (derived in step-by-step) + 1yr | AK31: Step 2: Find min of "Date derived in Step 1" vs. "very last engagement's Date To"
A32: =IF(COUNTIF($E$32,"")<>COUNTIF($F$32,""),"err","ok") -> ok | B32: =IF(COUNTIF($E$32,"")<>COUNTIF($F$32,""),"err","ok") -> ok | C32: =IF(OR(E32="",F32=""),"",RANK(F32,$F$32:$F$43,0)) | D32: ='NRE Calculator'!F39 -> Period 1 | E32: =E13 | F32: =F13 | G32: =IF(OR(E32="",F32=""),"",DATE(YEAR(E32)+1,MONTH(E32),DAY(E32)-1)) | H32: =IF(OR(E32="",F32=""),"",DATE(YEAR(F32)-1,MONTH(F32),DAY(F32)+1)) | I32: =Q44 -> 0 | J32: =Q61 -> 0 | K32: =IF(OR(E32="",F32=""),"",IF(I32>J32,AG32,AG49)) | L32: =IF(OR(E32="",F32=""),"",IF(I32>J32,AK32,AK49)) | M32: =IF(OR(E32="",F32=""),"",MAX(I32:J32)) | N32: =CONCATENATE($D$48,M32,IF(M32=1," day "," days "),$E$48,TEXT(K32,"DD-MMM-YYYY"),$F$48,TEXT(L32,"DD-MMM-YYYY"),$G$48) -> Your stay in Singapore totalled days from to . | Q32: =IF(OR(E32="",F32="",$B$44>0),"",IF(IF(F32<=$G$32,F32-E32+1,$G$32-E32+1)<0,0,IF(F32<=$G$32,F32-E32+1,$G$32-E32+1))) | R32: =IF(OR($E$33="",$F$33="",$B$44>0),"",IF(VLOOKUP(1,$C$32:$H$43,6,FALSE)<=$F32,$F32-MAX(VLOOKUP(1,$C$32:$H$43,6,FALSE),$E32)+1,0)) | S32: =IF(OR($E$34="",$F$34="",$B$44>0),"",IF(VLOOKUP(1,$C$32:$H$43,6,FALSE)<=$F32,$F32-MAX(VLOOKUP(1,$C$32:$H$43,6,FALSE),$E32)+1,0)) | T32: =IF(OR($E$35="",$F$35="",$B$44>0),"",IF(VLOOKUP(1,$C$32:$H$43,6,FALSE)<=$F32,$F32-MAX(VLOOKUP(1,$C$32:$H$43,6,FALSE),$E32)+1,0)) | U32: =IF(OR($E$36="",$F$36="",$B$44>0),"",IF(VLOOKUP(1,$C$32:$H$43,6,FALSE)<=$F32,$F32-MAX(VLOOKUP(1,$C$32:$H$43,6,FALSE),$E32)+1,0)) | V32: =IF(OR($E$37="",$F$37="",$B$44>0),"",IF(VLOOKUP(1,$C$32:$H$43,6,FALSE)<=$F32,$F32-MAX(VLOOKUP(1,$C$32:$H$43,6,FALSE),$E32)+1,0)) | W32: =IF(OR($E$38="",$F$38="",$B$44>0),"",IF(VLOOKUP(1,$C$32:$H$43,6,FALSE)<=$F32,$F32-MAX(VLOOKUP(1,$C$32:$H$43,6,FALSE),$E32)+1,0)) | X32: =IF(OR($E$39="",$F$39="",$B$44>0),"",IF(VLOOKUP(1,$C$32:$H$43,6,FALSE)<=$F32,$F32-MAX(VLOOKUP(1,$C$32:$H$43,6,FALSE),$E32)+1,0)) | Y32: =IF(OR($E$40="",$F$40="",$B$44>0),"",IF(VLOOKUP(1,$C$32:$H$43,6,FALSE)<=$F32,$F32-MAX(VLOOKUP(1,$C$32:$H$43,6,FALSE),$E32)+1,0)) | Z32: =IF(OR($E$41="",$F$41="",$B$44>0),"",IF(VLOOKUP(1,$C$32:$H$43,6,FALSE)<=$F32,$F32-MAX(VLOOKUP(1,$C$32:$H$43,6,FALSE),$E32)+1,0)) | AA32: =IF(OR($E$42="",$F$42="",$B$44>0),"",IF(VLOOKUP(1,$C$32:$H$43,6,FALSE)<=$F32,$F32-MAX(VLOOKUP(1,$C$32:$H$43,6,FALSE),$E32)+1,0)) | AB32: =IF(OR($E$43="",$F$43="",$B$44>0),"",IF(VLOOKUP(1,$C$32:$H$43,6,FALSE)<=$F32,$F32-MAX(VLOOKUP(1,$C$32:$H$43,6,FALSE),$E32)+1,0)) | AD32: =$D32 -> Period 1 | AE32: =MIN(G32,VLOOKUP(1,$C$32:$H$43,4,FALSE)) -> #N/A | AF32: =IF(AE32="","",DATE(YEAR(AE32)-1,MONTH(AE32),DAY(AE32)+1)) -> #N/A | AG32: =MAX(AF32,$E$32) -> #N/A | AI32: =$D32 -> Period 1 | AJ32: =IF(AE32="","",DATE(YEAR(AG32)+1,MONTH(AG32),DAY(AG32)-1)) -> #N/A | AK32: =MIN(AJ32,VLOOKUP(1,$C$32:$H$43,4,FALSE)) -> #N/A
A33: =IF(COUNTIF($E33,"")<>COUNTIF($F33,""),"err",IF(AND(COUNTIF($E33:$F33,"")<>2,COUNTIF(E$32:E32,"")>0),"err","ok")) -> ok | B33: =IF(COUNTIF($E33,"")<>COUNTIF($F33,""),"err",IF(AND(COUNTIF($E33:$F33,"")<>2,COUNTIF(F$32:F32,"")>0),"err","ok")) -> ok | C33: =IF(OR(E33="",F33=""),"",RANK(F33,$F$32:$F$43,0)) | D33: ='NRE Calculator'!F40 -> Period 2 | E33: =E14 | F33: =F14 | G33: =IF(OR(E33="",F33=""),"",DATE(YEAR(E33)+1,MONTH(E33),DAY(E33)-1)) | H33: =IF(OR(E33="",F33=""),"",DATE(YEAR(F33)-1,MONTH(F33),DAY(F33)+1)) | I33: =R44 -> 0 | J33: =R61 -> 0 | K33: =IF(OR(E33="",F33=""),"",IF(I33>J33,AG33,AG50)) | L33: =IF(OR(E33="",F33=""),"",IF(I33>J33,AK33,AK50)) | M33: =IF(OR(E33="",F33=""),"",MAX(I33:J33)) | N33: =CONCATENATE($D$48,M33,IF(M33=1," day "," days "),$E$48,TEXT(K33,"DD-MMM-YYYY"),$F$48,TEXT(L33,"DD-MMM-YYYY"),$G$48) -> Your stay in Singapore totalled days from to . | Q33: =IF(OR(E33="",F33="",$B$44>0),"",IF(IF(F33<=$G$32,F33-E33+1,$G$32-E33+1)<0,0,IF(F33<=$G$32,F33-E33+1,$G$32-E33+1))) | R33: =IF(OR(E33="",F33="",$B$44>0),"",IF(IF(F33<=$G$33,F33-E33+1,$G$33-E33+1)<0,0,IF(F33<=$G$33,F33-E33+1,$G$33-E33+1))) | S33: =IF(OR($E$34="",$F$34="",$B$44>0),"",IF(VLOOKUP(1,$C$32:$H$43,6,FALSE)<=$F33,$F33-MAX(VLOOKUP(1,$C$32:$H$43,6,FALSE),$E33)+1,0)) | T33: =IF(OR($E$35="",$F$35="",$B$44>0),"",IF(VLOOKUP(1,$C$32:$H$43,6,FALSE)<=$F33,$F33-MAX(VLOOKUP(1,$C$32:$H$43,6,FALSE),$E33)+1,0)) | U33: =IF(OR($E$36="",$F$36="",$B$44>0),"",IF(VLOOKUP(1,$C$32:$H$43,6,FALSE)<=$F33,$F33-MAX(VLOOKUP(1,$C$32:$H$43,6,FALSE),$E33)+1,0)) | V33: =IF(OR($E$37="",$F$37="",$B$44>0),"",IF(VLOOKUP(1,$C$32:$H$43,6,FALSE)<=$F33,$F33-MAX(VLOOKUP(1,$C$32:$H$43,6,FALSE),$E33)+1,0)) | W33: =IF(OR($E$38="",$F$38="",$B$44>0),"",IF(VLOOKUP(1,$C$32:$H$43,6,FALSE)<=$F33,$F33-MAX(VLOOKUP(1,$C$32:$H$43,6,FALSE),$E33)+1,0)) | X33: =IF(OR($E$39="",$F$39="",$B$44>0),"",IF(VLOOKUP(1,$C$32:$H$43,6,FALSE)<=$F33,$F33-MAX(VLOOKUP(1,$C$32:$H$43,6,FALSE),$E33)+1,0)) | Y33: =IF(OR($E$40="",$F$40="",$B$44>0),"",IF(VLOOKUP(1,$C$32:$H$43,6,FALSE)<=$F33,$F33-MAX(VLOOKUP(1,$C$32:$H$43,6,FALSE),$E33)+1,0)) | Z33: =IF(OR($E$41="",$F$41="",$B$44>0),"",IF(VLOOKUP(1,$C$32:$H$43,6,FALSE)<=$F33,$F33-MAX(VLOOKUP(1,$C$32:$H$43,6,FALSE),$E33)+1,0)) | AA33: =IF(OR($E$42="",$F$42="",$B$44>0),"",IF(VLOOKUP(1,$C$32:$H$43,6,FALSE)<=$F33,$F33-MAX(VLOOKUP(1,$C$32:$H$43,6,FALSE),$E33)+1,0)) | AB33: =IF(OR($E$43="",$F$43="",$B$44>0),"",IF(VLOOKUP(1,$C$32:$H$43,6,FALSE)<=$F33,$F33-MAX(VLOOKUP(1,$C$32:$H$43,6,FALSE),$E33)+1,0)) | AD33: =$D33 -> Period 2 | AE33: =MIN(G33,VLOOKUP(1,$C$32:$H$43,4,FALSE)) -> #N/A | AF33: =IF(AE33="","",DATE(YEAR(AE33)-1,MONTH(AE33),DAY(AE33)+1)) -> #N/A | AG33: =MAX(AF33,$E$32) -> #N/A | AI33: =$D33 -> Period 2 | AJ33: =IF(AE33="","",DATE(YEAR(AG33)+1,MONTH(AG33),DAY(AG33)-1)) -> #N/A | AK33: =MIN(AJ33,VLOOKUP(1,$C$32:$H$43,4,FALSE)) -> #N/A
A34: =IF(COUNTIF($E34,"")<>COUNTIF($F34,""),"err",IF(AND(COUNTIF($E34:$F34,"")<>2,COUNTIF(E$32:E33,"")>0),"err","ok")) -> ok | B34: =IF(COUNTIF($E34,"")<>COUNTIF($F34,""),"err",IF(AND(COUNTIF($E34:$F34,"")<>2,COUNTIF(F$32:F33,"")>0),"err","ok")) -> ok | C34: =IF(OR(E34="",F34=""),"",RANK(F34,$F$32:$F$43,0)) | D34: ='NRE Calculator'!F41 -> Period 3 | E34: =E15 | F34: =F15 | G34: =IF(OR(E34="",F34=""),"",DATE(YEAR(E34)+1,MONTH(E34),DAY(E34)-1)) | H34: =IF(OR(E34="",F34=""),"",DATE(YEAR(F34)-1,MONTH(F34),DAY(F34)+1)) | I34: =S44 -> 0 | J34: =S61 -> 0 | K34: =IF(OR(E34="",F34=""),"",IF(I34>J34,AG34,AG51)) | L34: =IF(OR(E34="",F34=""),"",IF(I34>J34,AK34,AK51)) | M34: =IF(OR(E34="",F34=""),"",MAX(I34:J34)) | N34: =CONCATENATE($D$48,M34,IF(M34=1," day "," days "),$E$48,TEXT(K34,"DD-MMM-YYYY"),$F$48,TEXT(L34,"DD-MMM-YYYY"),$G$48) -> Your stay in Singapore totalled days from to . | Q34: =IF(OR(E34="",F34="",$B$44>0),"",IF(IF(F34<=$G$32,F34-E34+1,$G$32-E34+1)<0,0,IF(F34<=$G$32,F34-E34+1,$G$32-E34+1))) | R34: =IF(OR(E34="",F34="",$B$44>0),"",IF(IF(F34<=$G$33,F34-E34+1,$G$33-E34+1)<0,0,IF(F34<=$G$33,F34-E34+1,$G$33-E34+1))) | S34: =IF(OR(E34="",F34="",$B$44>0),"",IF(IF(F34<=$G$34,F34-E34+1,$G$34-E34+1)<0,0,IF(F34<=$G$34,F34-E34+1,$G$34-E34+1))) | T34: =IF(OR($E$35="",$F$35="",$B$44>0),"",IF(VLOOKUP(1,$C$32:$H$43,6,FALSE)<=$F34,$F34-MAX(VLOOKUP(1,$C$32:$H$43,6,FALSE),$E34)+1,0)) | U34: =IF(OR($E$36="",$F$36="",$B$44>0),"",IF(VLOOKUP(1,$C$32:$H$43,6,FALSE)<=$F34,$F34-MAX(VLOOKUP(1,$C$32:$H$43,6,FALSE),$E34)+1,0)) | V34: =IF(OR($E$37="",$F$37="",$B$44>0),"",IF(VLOOKUP(1,$C$32:$H$43,6,FALSE)<=$F34,$F34-MAX(VLOOKUP(1,$C$32:$H$43,6,FALSE),$E34)+1,0)) | W34: =IF(OR($E$38="",$F$38="",$B$44>0),"",IF(VLOOKUP(1,$C$32:$H$43,6,FALSE)<=$F34,$F34-MAX(VLOOKUP(1,$C$32:$H$43,6,FALSE),$E34)+1,0)) | X34: =IF(OR($E$39="",$F$39="",$B$44>0),"",IF(VLOOKUP(1,$C$32:$H$43,6,FALSE)<=$F34,$F34-MAX(VLOOKUP(1,$C$32:$H$43,6,FALSE),$E34)+1,0)) | Y34: =IF(OR($E$40="",$F$40="",$B$44>0),"",IF(VLOOKUP(1,$C$32:$H$43,6,FALSE)<=$F34,$F34-MAX(VLOOKUP(1,$C$32:$H$43,6,FALSE),$E34)+1,0)) | Z34: =IF(OR($E$41="",$F$41="",$B$44>0),"",IF(VLOOKUP(1,$C$32:$H$43,6,FALSE)<=$F34,$F34-MAX(VLOOKUP(1,$C$32:$H$43,6,FALSE),$E34)+1,0)) | AA34: =IF(OR($E$42="",$F$42="",$B$44>0),"",IF(VLOOKUP(1,$C$32:$H$43,6,FALSE)<=$F34,$F34-MAX(VLOOKUP(1,$C$32:$H$43,6,FALSE),$E34)+1,0)) | AB34: =IF(OR($E$43="",$F$43="",$B$44>0),"",IF(VLOOKUP(1,$C$32:$H$43,6,FALSE)<=$F34,$F34-MAX(VLOOKUP(1,$C$32:$H$43,6,FALSE),$E34)+1,0)) | AD34: =$D34 -> Period 3 | AE34: =MIN(G34,VLOOKUP(1,$C$32:$H$43,4,FALSE)) -> #N/A | AF34: =IF(AE34="","",DATE(YEAR(AE34)-1,MONTH(AE34),DAY(AE34)+1)) -> #N/A | AG34: =MAX(AF34,$E$32) -> #N/A | AI34: =$D34 -> Period 3 | AJ34: =IF(AE34="","",DATE(YEAR(AG34)+1,MONTH(AG34),DAY(AG34)-1)) -> #N/A | AK34: =MIN(AJ34,VLOOKUP(1,$C$32:$H$43,4,FALSE)) -> #N/A
